BEGIN:VCALENDAR
VERSION:2.0
PRODID:-//Zentrum für altes und neues Wissen und Handeln e.V. - ECPv1.0//NONSGML v1.0//EN
CALSCALE:GREGORIAN
METHOD:PUBLISH
X-WR-CALNAME:Zentrum für altes und neues Wissen und Handeln e.V.
X-ORIGINAL-URL:https://zentrumhofheim.de
X-WR-CALDESC:Events for Zentrum für altes und neues Wissen und Handeln e.V.
BEGIN:VEVENT
DTSTART;VALUE=DATE-TIME:20260301T100000Z
DTEND;VALUE=DATE-TIME:20260301T120000Z
DTSTAMP:20260419T140838
UID:12767-1772359200-1772366400@https://zentrumhofheim.de
SUMMARY:Entdecke die Kraft der 5 Rhythmen
DESCRIPTION:
LOCATION:
URL:https://zentrumhofheim.de/entdecke-die-kraft-der-5-rhythmen/
ATTACH;FMTTYPE=image/jpeg:https://zentrumhofheim.de/wp-content/uploads/2025/12/2026-AndreaMaria.jpg
END:VEVENT
BEGIN:VEVENT
DTSTART;VALUE=DATE-TIME:20260302T190000Z
DTEND;VALUE=DATE-TIME:20260302T200000Z
DTSTAMP:20260419T140838
UID:12839-1772478000-1772481600@https://zentrumhofheim.de
SUMMARY:Zen-Meditation
DESCRIPTION:
LOCATION:
URL:https://zentrumhofheim.de/zen-meditation/
ATTACH;FMTTYPE=image/jpeg:https://zentrumhofheim.de/wp-content/uploads/2016/07/lutz-janke-martin-haindl.jpg
END:VEVENT
BEGIN:VEVENT
DTSTART;VALUE=DATE-TIME:20260307T113000Z
DTEND;VALUE=DATE-TIME:20260307T163000Z
DTSTAMP:20260419T140838
UID:12575-1772883000-1772901000@https://zentrumhofheim.de
SUMMARY:Tarot: Bilder zur Selbsterkenntnis
DESCRIPTION:
LOCATION:
URL:https://zentrumhofheim.de/tarot-bilder-zur-selbsterkenntnis/
ATTACH;FMTTYPE=image/jpeg:https://zentrumhofheim.de/wp-content/uploads/2019/12/2019-Kalender-IreenvanBel.jpg
END:VEVENT
BEGIN:VEVENT
DTSTART;VALUE=DATE-TIME:20260309T190000Z
DTEND;VALUE=DATE-TIME:20260309T200000Z
DTSTAMP:20260419T140838
UID:12840-1773082800-1773086400@https://zentrumhofheim.de
SUMMARY:Zen-Meditation
DESCRIPTION:
LOCATION:
URL:https://zentrumhofheim.de/zen-meditation/
ATTACH;FMTTYPE=image/jpeg:https://zentrumhofheim.de/wp-content/uploads/2016/07/lutz-janke-martin-haindl.jpg
END:VEVENT
BEGIN:VEVENT
DTSTART;VALUE=DATE-TIME:20260313T183000Z
DTEND;VALUE=DATE-TIME:20260313T200000Z
DTSTAMP:20260419T140838
UID:13051-1773426600-1773432000@https://zentrumhofheim.de
SUMMARY:Nebelbänke und Sonnenflecken
DESCRIPTION:Autorenlesung aus dem Buch\n„Grönland – eine künstlerische Expedition ins Eis.“\nvon Stannes Schwarz
LOCATION:
URL:https://zentrumhofheim.de/nebelbaenke-und-sonnenflecken/
ATTACH;FMTTYPE=image/jpeg:https://zentrumhofheim.de/wp-content/uploads/2026/02/2026-Stannes-Schwarz.jpg
END:VEVENT
BEGIN:VEVENT
DTSTART;VALUE=DATE-TIME:20260316T190000Z
DTEND;VALUE=DATE-TIME:20260316T200000Z
DTSTAMP:20260419T140838
UID:12841-1773687600-1773691200@https://zentrumhofheim.de
SUMMARY:Zen-Meditation
DESCRIPTION:
LOCATION:
URL:https://zentrumhofheim.de/zen-meditation/
ATTACH;FMTTYPE=image/jpeg:https://zentrumhofheim.de/wp-content/uploads/2016/07/lutz-janke-martin-haindl.jpg
END:VEVENT
BEGIN:VEVENT
DTSTART;VALUE=DATE-TIME:20260317T180000Z
DTEND;VALUE=DATE-TIME:20260317T193000Z
DTSTAMP:20260419T140838
UID:12939-1773770400-1773775800@https://zentrumhofheim.de
SUMMARY:Meditatives Tanzen
DESCRIPTION:
LOCATION:
URL:https://zentrumhofheim.de/meditatives-tanzen/
ATTACH;FMTTYPE=image/jpeg:https://zentrumhofheim.de/wp-content/uploads/2017/11/Gesche-Wasserstrass.jpg
END:VEVENT
BEGIN:VEVENT
DTSTART;VALUE=DATE-TIME:20260320T170000Z
DTEND;VALUE=DATE-TIME:20260320T200000Z
DTSTAMP:20260419T140838
UID:12857-1774026000-1774036800@https://zentrumhofheim.de
SUMMARY:Frühjahrs-Tag-und-Nachtgleiche
DESCRIPTION:
LOCATION:
URL:https://zentrumhofheim.de/treffen-zu-tag-und-nachtgleichen/
ATTACH;FMTTYPE=image/jpeg:https://zentrumhofheim.de/wp-content/uploads/2019/01/2019-Kalender-Sonnenwende.jpg
END:VEVENT
BEGIN:VEVENT
DTSTART;VALUE=DATE-TIME:20260323T190000Z
DTEND;VALUE=DATE-TIME:20260323T200000Z
DTSTAMP:20260419T140838
UID:12842-1774292400-1774296000@https://zentrumhofheim.de
SUMMARY:Zen-Meditation
DESCRIPTION:
LOCATION:
URL:https://zentrumhofheim.de/zen-meditation/
ATTACH;FMTTYPE=image/jpeg:https://zentrumhofheim.de/wp-content/uploads/2016/07/lutz-janke-martin-haindl.jpg
END:VEVENT
BEGIN:VEVENT
DTSTART;VALUE=DATE-TIME:20260329T080000Z
DTEND;VALUE=DATE-TIME:20260329T100000Z
DTSTAMP:20260419T140838
UID:12751-1774771200-1774778400@https://zentrumhofheim.de
SUMMARY:Treffpunkt Scheunengarten
DESCRIPTION:
LOCATION:
URL:https://zentrumhofheim.de/treffpunkt-scheunen-garten/
ATTACH;FMTTYPE=image/png:https://zentrumhofheim.de/wp-content/uploads/2023/12/Bildschirmfoto-2023-12-01-um-08.51.35.png
END:VEVENT
BEGIN:VEVENT
DTSTART;VALUE=DATE-TIME:20260330T180000Z
DTEND;VALUE=DATE-TIME:20260330T193000Z
DTSTAMP:20260419T140838
UID:12823-1774893600-1774899000@https://zentrumhofheim.de
SUMMARY:Gong-Meditation
DESCRIPTION:
LOCATION:Scheune in der Bärengasse
URL:https://zentrumhofheim.de/gong-meditation/
ATTACH;FMTTYPE=image/jpeg:https://zentrumhofheim.de/wp-content/uploads/2025/01/Gong.jpg
END:VEVENT
END:VCALENDAR