BEGIN:VCALENDAR
VERSION:2.0
PRODID:-//Zentrum für altes und neues Wissen und Handeln e.V. - ECPv1.0//NONSGML v1.0//EN
CALSCALE:GREGORIAN
METHOD:PUBLISH
X-WR-CALNAME:Zentrum für altes und neues Wissen und Handeln e.V.
X-ORIGINAL-URL:https://zentrumhofheim.de
X-WR-CALDESC:Events for Zentrum für altes und neues Wissen und Handeln e.V.
BEGIN:VEVENT
DTSTART;VALUE=DATE:20260701
DTEND;VALUE=DATE:20260701
DTSTAMP:20260419T141930
UID:12739-1782864000-1782864000@https://zentrumhofheim.de
SUMMARY:KreisStadtSommer
DESCRIPTION:Relevant für Veranstaltungen im Vereinshaus, evtl. lauf auf Platz und Räume werden oft kurzfristig für Sanitätsdienst gebraucht und dann hat dieser Vorrang
LOCATION:Kellereiplatz und -gebäude
URL:https://www.hofheim.de/neuigkeiten-und-ausschreibungen/veranstaltungen/
END:VEVENT
BEGIN:VEVENT
DTSTART;VALUE=DATE:20260702
DTEND;VALUE=DATE:20260702
DTSTAMP:20260419T141930
UID:12739-1782950400-1782950400@https://zentrumhofheim.de
SUMMARY:KreisStadtSommer
DESCRIPTION:Relevant für Veranstaltungen im Vereinshaus, evtl. lauf auf Platz und Räume werden oft kurzfristig für Sanitätsdienst gebraucht und dann hat dieser Vorrang
LOCATION:Kellereiplatz und -gebäude
URL:https://www.hofheim.de/neuigkeiten-und-ausschreibungen/veranstaltungen/
END:VEVENT
BEGIN:VEVENT
DTSTART;VALUE=DATE:20260703
DTEND;VALUE=DATE:20260703
DTSTAMP:20260419T141930
UID:12739-1783036800-1783036800@https://zentrumhofheim.de
SUMMARY:KreisStadtSommer
DESCRIPTION:Relevant für Veranstaltungen im Vereinshaus, evtl. lauf auf Platz und Räume werden oft kurzfristig für Sanitätsdienst gebraucht und dann hat dieser Vorrang
LOCATION:Kellereiplatz und -gebäude
URL:https://www.hofheim.de/neuigkeiten-und-ausschreibungen/veranstaltungen/
END:VEVENT
BEGIN:VEVENT
DTSTART;VALUE=DATE:20260704
DTEND;VALUE=DATE:20260704
DTSTAMP:20260419T141930
UID:12739-1783123200-1783123200@https://zentrumhofheim.de
SUMMARY:KreisStadtSommer
DESCRIPTION:Relevant für Veranstaltungen im Vereinshaus, evtl. lauf auf Platz und Räume werden oft kurzfristig für Sanitätsdienst gebraucht und dann hat dieser Vorrang
LOCATION:Kellereiplatz und -gebäude
URL:https://www.hofheim.de/neuigkeiten-und-ausschreibungen/veranstaltungen/
END:VEVENT
BEGIN:VEVENT
DTSTART;VALUE=DATE:20260705
DTEND;VALUE=DATE:20260705
DTSTAMP:20260419T141930
UID:12739-1783209600-1783209600@https://zentrumhofheim.de
SUMMARY:KreisStadtSommer
DESCRIPTION:Relevant für Veranstaltungen im Vereinshaus, evtl. lauf auf Platz und Räume werden oft kurzfristig für Sanitätsdienst gebraucht und dann hat dieser Vorrang
LOCATION:Kellereiplatz und -gebäude
URL:https://www.hofheim.de/neuigkeiten-und-ausschreibungen/veranstaltungen/
END:VEVENT
BEGIN:VEVENT
DTSTART;VALUE=DATE-TIME:20260706T180000Z
DTEND;VALUE=DATE-TIME:20260706T190000Z
DTSTAMP:20260419T141930
UID:12903-1783360800-1783364400@https://zentrumhofheim.de
SUMMARY:Zen-Meditation
DESCRIPTION:
LOCATION:
URL:https://zentrumhofheim.de/zen-meditation/
ATTACH;FMTTYPE=image/jpeg:https://zentrumhofheim.de/wp-content/uploads/2016/07/lutz-janke-martin-haindl.jpg
END:VEVENT
BEGIN:VEVENT
DTSTART;VALUE=DATE:20260706
DTEND;VALUE=DATE:20260706
DTSTAMP:20260419T141930
UID:12739-1783296000-1783296000@https://zentrumhofheim.de
SUMMARY:KreisStadtSommer
DESCRIPTION:Relevant für Veranstaltungen im Vereinshaus, evtl. lauf auf Platz und Räume werden oft kurzfristig für Sanitätsdienst gebraucht und dann hat dieser Vorrang
LOCATION:Kellereiplatz und -gebäude
URL:https://www.hofheim.de/neuigkeiten-und-ausschreibungen/veranstaltungen/
END:VEVENT
BEGIN:VEVENT
DTSTART;VALUE=DATE:20260707
DTEND;VALUE=DATE:20260707
DTSTAMP:20260419T141930
UID:12739-1783382400-1783382400@https://zentrumhofheim.de
SUMMARY:KreisStadtSommer
DESCRIPTION:Relevant für Veranstaltungen im Vereinshaus, evtl. lauf auf Platz und Räume werden oft kurzfristig für Sanitätsdienst gebraucht und dann hat dieser Vorrang
LOCATION:Kellereiplatz und -gebäude
URL:https://www.hofheim.de/neuigkeiten-und-ausschreibungen/veranstaltungen/
END:VEVENT
BEGIN:VEVENT
DTSTART;VALUE=DATE:20260708
DTEND;VALUE=DATE:20260708
DTSTAMP:20260419T141930
UID:12739-1783468800-1783468800@https://zentrumhofheim.de
SUMMARY:KreisStadtSommer
DESCRIPTION:Relevant für Veranstaltungen im Vereinshaus, evtl. lauf auf Platz und Räume werden oft kurzfristig für Sanitätsdienst gebraucht und dann hat dieser Vorrang
LOCATION:Kellereiplatz und -gebäude
URL:https://www.hofheim.de/neuigkeiten-und-ausschreibungen/veranstaltungen/
END:VEVENT
BEGIN:VEVENT
DTSTART;VALUE=DATE:20260709
DTEND;VALUE=DATE:20260709
DTSTAMP:20260419T141930
UID:12739-1783555200-1783555200@https://zentrumhofheim.de
SUMMARY:KreisStadtSommer
DESCRIPTION:Relevant für Veranstaltungen im Vereinshaus, evtl. lauf auf Platz und Räume werden oft kurzfristig für Sanitätsdienst gebraucht und dann hat dieser Vorrang
LOCATION:Kellereiplatz und -gebäude
URL:https://www.hofheim.de/neuigkeiten-und-ausschreibungen/veranstaltungen/
END:VEVENT
BEGIN:VEVENT
DTSTART;VALUE=DATE:20260710
DTEND;VALUE=DATE:20260710
DTSTAMP:20260419T141930
UID:12739-1783641600-1783641600@https://zentrumhofheim.de
SUMMARY:KreisStadtSommer
DESCRIPTION:Relevant für Veranstaltungen im Vereinshaus, evtl. lauf auf Platz und Räume werden oft kurzfristig für Sanitätsdienst gebraucht und dann hat dieser Vorrang
LOCATION:Kellereiplatz und -gebäude
URL:https://www.hofheim.de/neuigkeiten-und-ausschreibungen/veranstaltungen/
END:VEVENT
BEGIN:VEVENT
DTSTART;VALUE=DATE:20260711
DTEND;VALUE=DATE:20260711
DTSTAMP:20260419T141930
UID:12739-1783728000-1783728000@https://zentrumhofheim.de
SUMMARY:KreisStadtSommer
DESCRIPTION:Relevant für Veranstaltungen im Vereinshaus, evtl. lauf auf Platz und Räume werden oft kurzfristig für Sanitätsdienst gebraucht und dann hat dieser Vorrang
LOCATION:Kellereiplatz und -gebäude
URL:https://www.hofheim.de/neuigkeiten-und-ausschreibungen/veranstaltungen/
END:VEVENT
BEGIN:VEVENT
DTSTART;VALUE=DATE:20260712
DTEND;VALUE=DATE:20260712
DTSTAMP:20260419T141930
UID:12739-1783814400-1783814400@https://zentrumhofheim.de
SUMMARY:KreisStadtSommer
DESCRIPTION:Relevant für Veranstaltungen im Vereinshaus, evtl. lauf auf Platz und Räume werden oft kurzfristig für Sanitätsdienst gebraucht und dann hat dieser Vorrang
LOCATION:Kellereiplatz und -gebäude
URL:https://www.hofheim.de/neuigkeiten-und-ausschreibungen/veranstaltungen/
END:VEVENT
BEGIN:VEVENT
DTSTART;VALUE=DATE-TIME:20260713T180000Z
DTEND;VALUE=DATE-TIME:20260713T190000Z
DTSTAMP:20260419T141930
UID:12904-1783965600-1783969200@https://zentrumhofheim.de
SUMMARY:Zen-Meditation
DESCRIPTION:
LOCATION:
URL:https://zentrumhofheim.de/zen-meditation/
ATTACH;FMTTYPE=image/jpeg:https://zentrumhofheim.de/wp-content/uploads/2016/07/lutz-janke-martin-haindl.jpg
END:VEVENT
BEGIN:VEVENT
DTSTART;VALUE=DATE:20260713
DTEND;VALUE=DATE:20260713
DTSTAMP:20260419T141930
UID:12739-1783900800-1783900800@https://zentrumhofheim.de
SUMMARY:KreisStadtSommer
DESCRIPTION:Relevant für Veranstaltungen im Vereinshaus, evtl. lauf auf Platz und Räume werden oft kurzfristig für Sanitätsdienst gebraucht und dann hat dieser Vorrang
LOCATION:Kellereiplatz und -gebäude
URL:https://www.hofheim.de/neuigkeiten-und-ausschreibungen/veranstaltungen/
END:VEVENT
BEGIN:VEVENT
DTSTART;VALUE=DATE-TIME:20260714T160000Z
DTEND;VALUE=DATE-TIME:20260714T200000Z
DTSTAMP:20260419T141930
UID:12936-1784044800-1784059200@https://zentrumhofheim.de
SUMMARY:Meditatives Tanzen – Sommertanzfest
DESCRIPTION:
LOCATION:
URL:https://zentrumhofheim.de/meditatives-tanzen/
ATTACH;FMTTYPE=image/jpeg:https://zentrumhofheim.de/wp-content/uploads/2017/11/Gesche-Wasserstrass.jpg
END:VEVENT
BEGIN:VEVENT
DTSTART;VALUE=DATE:20260714
DTEND;VALUE=DATE:20260714
DTSTAMP:20260419T141930
UID:12739-1783987200-1783987200@https://zentrumhofheim.de
SUMMARY:KreisStadtSommer
DESCRIPTION:Relevant für Veranstaltungen im Vereinshaus, evtl. lauf auf Platz und Räume werden oft kurzfristig für Sanitätsdienst gebraucht und dann hat dieser Vorrang
LOCATION:Kellereiplatz und -gebäude
URL:https://www.hofheim.de/neuigkeiten-und-ausschreibungen/veranstaltungen/
END:VEVENT
BEGIN:VEVENT
DTSTART;VALUE=DATE:20260715
DTEND;VALUE=DATE:20260715
DTSTAMP:20260419T141930
UID:12739-1784073600-1784073600@https://zentrumhofheim.de
SUMMARY:KreisStadtSommer
DESCRIPTION:Relevant für Veranstaltungen im Vereinshaus, evtl. lauf auf Platz und Räume werden oft kurzfristig für Sanitätsdienst gebraucht und dann hat dieser Vorrang
LOCATION:Kellereiplatz und -gebäude
URL:https://www.hofheim.de/neuigkeiten-und-ausschreibungen/veranstaltungen/
END:VEVENT
BEGIN:VEVENT
DTSTART;VALUE=DATE:20260716
DTEND;VALUE=DATE:20260716
DTSTAMP:20260419T141930
UID:12739-1784160000-1784160000@https://zentrumhofheim.de
SUMMARY:KreisStadtSommer
DESCRIPTION:Relevant für Veranstaltungen im Vereinshaus, evtl. lauf auf Platz und Räume werden oft kurzfristig für Sanitätsdienst gebraucht und dann hat dieser Vorrang
LOCATION:Kellereiplatz und -gebäude
URL:https://www.hofheim.de/neuigkeiten-und-ausschreibungen/veranstaltungen/
END:VEVENT
BEGIN:VEVENT
DTSTART;VALUE=DATE:20260717
DTEND;VALUE=DATE:20260717
DTSTAMP:20260419T141930
UID:12739-1784246400-1784246400@https://zentrumhofheim.de
SUMMARY:KreisStadtSommer
DESCRIPTION:Relevant für Veranstaltungen im Vereinshaus, evtl. lauf auf Platz und Räume werden oft kurzfristig für Sanitätsdienst gebraucht und dann hat dieser Vorrang
LOCATION:Kellereiplatz und -gebäude
URL:https://www.hofheim.de/neuigkeiten-und-ausschreibungen/veranstaltungen/
END:VEVENT
BEGIN:VEVENT
DTSTART;VALUE=DATE:20260718
DTEND;VALUE=DATE:20260718
DTSTAMP:20260419T141930
UID:12739-1784332800-1784332800@https://zentrumhofheim.de
SUMMARY:KreisStadtSommer
DESCRIPTION:Relevant für Veranstaltungen im Vereinshaus, evtl. lauf auf Platz und Räume werden oft kurzfristig für Sanitätsdienst gebraucht und dann hat dieser Vorrang
LOCATION:Kellereiplatz und -gebäude
URL:https://www.hofheim.de/neuigkeiten-und-ausschreibungen/veranstaltungen/
END:VEVENT
BEGIN:VEVENT
DTSTART;VALUE=DATE:20260719
DTEND;VALUE=DATE:20260719
DTSTAMP:20260419T141930
UID:12739-1784419200-1784419200@https://zentrumhofheim.de
SUMMARY:KreisStadtSommer
DESCRIPTION:Relevant für Veranstaltungen im Vereinshaus, evtl. lauf auf Platz und Räume werden oft kurzfristig für Sanitätsdienst gebraucht und dann hat dieser Vorrang
LOCATION:Kellereiplatz und -gebäude
URL:https://www.hofheim.de/neuigkeiten-und-ausschreibungen/veranstaltungen/
END:VEVENT
BEGIN:VEVENT
DTSTART;VALUE=DATE-TIME:20260720T180000Z
DTEND;VALUE=DATE-TIME:20260720T190000Z
DTSTAMP:20260419T141930
UID:12905-1784570400-1784574000@https://zentrumhofheim.de
SUMMARY:Zen-Meditation
DESCRIPTION:
LOCATION:
URL:https://zentrumhofheim.de/zen-meditation/
ATTACH;FMTTYPE=image/jpeg:https://zentrumhofheim.de/wp-content/uploads/2016/07/lutz-janke-martin-haindl.jpg
END:VEVENT
BEGIN:VEVENT
DTSTART;VALUE=DATE:20260720
DTEND;VALUE=DATE:20260720
DTSTAMP:20260419T141930
UID:12739-1784505600-1784505600@https://zentrumhofheim.de
SUMMARY:KreisStadtSommer
DESCRIPTION:Relevant für Veranstaltungen im Vereinshaus, evtl. lauf auf Platz und Räume werden oft kurzfristig für Sanitätsdienst gebraucht und dann hat dieser Vorrang
LOCATION:Kellereiplatz und -gebäude
URL:https://www.hofheim.de/neuigkeiten-und-ausschreibungen/veranstaltungen/
END:VEVENT
BEGIN:VEVENT
DTSTART;VALUE=DATE:20260721
DTEND;VALUE=DATE:20260721
DTSTAMP:20260419T141930
UID:12739-1784592000-1784592000@https://zentrumhofheim.de
SUMMARY:KreisStadtSommer
DESCRIPTION:Relevant für Veranstaltungen im Vereinshaus, evtl. lauf auf Platz und Räume werden oft kurzfristig für Sanitätsdienst gebraucht und dann hat dieser Vorrang
LOCATION:Kellereiplatz und -gebäude
URL:https://www.hofheim.de/neuigkeiten-und-ausschreibungen/veranstaltungen/
END:VEVENT
BEGIN:VEVENT
DTSTART;VALUE=DATE:20260722
DTEND;VALUE=DATE:20260722
DTSTAMP:20260419T141930
UID:12739-1784678400-1784678400@https://zentrumhofheim.de
SUMMARY:KreisStadtSommer
DESCRIPTION:Relevant für Veranstaltungen im Vereinshaus, evtl. lauf auf Platz und Räume werden oft kurzfristig für Sanitätsdienst gebraucht und dann hat dieser Vorrang
LOCATION:Kellereiplatz und -gebäude
URL:https://www.hofheim.de/neuigkeiten-und-ausschreibungen/veranstaltungen/
END:VEVENT
BEGIN:VEVENT
DTSTART;VALUE=DATE:20260723
DTEND;VALUE=DATE:20260723
DTSTAMP:20260419T141930
UID:12739-1784764800-1784764800@https://zentrumhofheim.de
SUMMARY:KreisStadtSommer
DESCRIPTION:Relevant für Veranstaltungen im Vereinshaus, evtl. lauf auf Platz und Räume werden oft kurzfristig für Sanitätsdienst gebraucht und dann hat dieser Vorrang
LOCATION:Kellereiplatz und -gebäude
URL:https://www.hofheim.de/neuigkeiten-und-ausschreibungen/veranstaltungen/
END:VEVENT
BEGIN:VEVENT
DTSTART;VALUE=DATE:20260724
DTEND;VALUE=DATE:20260724
DTSTAMP:20260419T141930
UID:12739-1784851200-1784851200@https://zentrumhofheim.de
SUMMARY:KreisStadtSommer
DESCRIPTION:Relevant für Veranstaltungen im Vereinshaus, evtl. lauf auf Platz und Räume werden oft kurzfristig für Sanitätsdienst gebraucht und dann hat dieser Vorrang
LOCATION:Kellereiplatz und -gebäude
URL:https://www.hofheim.de/neuigkeiten-und-ausschreibungen/veranstaltungen/
END:VEVENT
BEGIN:VEVENT
DTSTART;VALUE=DATE:20260725
DTEND;VALUE=DATE:20260725
DTSTAMP:20260419T141930
UID:12739-1784937600-1784937600@https://zentrumhofheim.de
SUMMARY:KreisStadtSommer
DESCRIPTION:Relevant für Veranstaltungen im Vereinshaus, evtl. lauf auf Platz und Räume werden oft kurzfristig für Sanitätsdienst gebraucht und dann hat dieser Vorrang
LOCATION:Kellereiplatz und -gebäude
URL:https://www.hofheim.de/neuigkeiten-und-ausschreibungen/veranstaltungen/
END:VEVENT
BEGIN:VEVENT
DTSTART;VALUE=DATE-TIME:20260726T090000Z
DTEND;VALUE=DATE-TIME:20260726T110000Z
DTSTAMP:20260419T141930
UID:12755-1785056400-1785063600@https://zentrumhofheim.de
SUMMARY:Treffpunkt Scheunengarten
DESCRIPTION:
LOCATION:
URL:https://zentrumhofheim.de/treffpunkt-scheunen-garten/
ATTACH;FMTTYPE=image/png:https://zentrumhofheim.de/wp-content/uploads/2023/12/Bildschirmfoto-2023-12-01-um-08.51.35.png
END:VEVENT
BEGIN:VEVENT
DTSTART;VALUE=DATE:20260726
DTEND;VALUE=DATE:20260726
DTSTAMP:20260419T141930
UID:12739-1785024000-1785024000@https://zentrumhofheim.de
SUMMARY:KreisStadtSommer
DESCRIPTION:Relevant für Veranstaltungen im Vereinshaus, evtl. lauf auf Platz und Räume werden oft kurzfristig für Sanitätsdienst gebraucht und dann hat dieser Vorrang
LOCATION:Kellereiplatz und -gebäude
URL:https://www.hofheim.de/neuigkeiten-und-ausschreibungen/veranstaltungen/
END:VEVENT
BEGIN:VEVENT
DTSTART;VALUE=DATE-TIME:20260727T180000Z
DTEND;VALUE=DATE-TIME:20260727T193000Z
DTSTAMP:20260419T141930
UID:12826-1785175200-1785180600@https://zentrumhofheim.de
SUMMARY:Gong-Meditation
DESCRIPTION:
LOCATION:Scheune in der Bärengasse
URL:https://zentrumhofheim.de/gong-meditation/
ATTACH;FMTTYPE=image/jpeg:https://zentrumhofheim.de/wp-content/uploads/2025/01/Gong.jpg
END:VEVENT
BEGIN:VEVENT
DTSTART;VALUE=DATE:20260727
DTEND;VALUE=DATE:20260727
DTSTAMP:20260419T141930
UID:12739-1785110400-1785110400@https://zentrumhofheim.de
SUMMARY:KreisStadtSommer
DESCRIPTION:Relevant für Veranstaltungen im Vereinshaus, evtl. lauf auf Platz und Räume werden oft kurzfristig für Sanitätsdienst gebraucht und dann hat dieser Vorrang
LOCATION:Kellereiplatz und -gebäude
URL:https://www.hofheim.de/neuigkeiten-und-ausschreibungen/veranstaltungen/
END:VEVENT
BEGIN:VEVENT
DTSTART;VALUE=DATE:20260728
DTEND;VALUE=DATE:20260728
DTSTAMP:20260419T141930
UID:12739-1785196800-1785196800@https://zentrumhofheim.de
SUMMARY:KreisStadtSommer
DESCRIPTION:Relevant für Veranstaltungen im Vereinshaus, evtl. lauf auf Platz und Räume werden oft kurzfristig für Sanitätsdienst gebraucht und dann hat dieser Vorrang
LOCATION:Kellereiplatz und -gebäude
URL:https://www.hofheim.de/neuigkeiten-und-ausschreibungen/veranstaltungen/
END:VEVENT
BEGIN:VEVENT
DTSTART;VALUE=DATE:20260729
DTEND;VALUE=DATE:20260729
DTSTAMP:20260419T141930
UID:12739-1785283200-1785283200@https://zentrumhofheim.de
SUMMARY:KreisStadtSommer
DESCRIPTION:Relevant für Veranstaltungen im Vereinshaus, evtl. lauf auf Platz und Räume werden oft kurzfristig für Sanitätsdienst gebraucht und dann hat dieser Vorrang
LOCATION:Kellereiplatz und -gebäude
URL:https://www.hofheim.de/neuigkeiten-und-ausschreibungen/veranstaltungen/
END:VEVENT
BEGIN:VEVENT
DTSTART;VALUE=DATE-TIME:20260729T173000Z
DTEND;VALUE=DATE-TIME:20260729T200000Z
DTSTAMP:20260419T141930
UID:12721-1785346200-1785355200@https://zentrumhofheim.de
SUMMARY:Der Vollmond im Jahreskreis – Sommer
DESCRIPTION:
LOCATION:
URL:https://zentrumhofheim.de/der-vollmond-im-jahreskreis/
ATTACH;FMTTYPE=image/jpeg:https://zentrumhofheim.de/wp-content/uploads/2015/12/Apfelbaum-Vollmond.jpg
END:VEVENT
BEGIN:VEVENT
DTSTART;VALUE=DATE:20260730
DTEND;VALUE=DATE:20260730
DTSTAMP:20260419T141930
UID:12739-1785369600-1785369600@https://zentrumhofheim.de
SUMMARY:KreisStadtSommer
DESCRIPTION:Relevant für Veranstaltungen im Vereinshaus, evtl. lauf auf Platz und Räume werden oft kurzfristig für Sanitätsdienst gebraucht und dann hat dieser Vorrang
LOCATION:Kellereiplatz und -gebäude
URL:https://www.hofheim.de/neuigkeiten-und-ausschreibungen/veranstaltungen/
END:VEVENT
BEGIN:VEVENT
DTSTART;VALUE=DATE:20260731
DTEND;VALUE=DATE:20260731
DTSTAMP:20260419T141930
UID:12739-1785456000-1785456000@https://zentrumhofheim.de
SUMMARY:KreisStadtSommer
DESCRIPTION:Relevant für Veranstaltungen im Vereinshaus, evtl. lauf auf Platz und Räume werden oft kurzfristig für Sanitätsdienst gebraucht und dann hat dieser Vorrang
LOCATION:Kellereiplatz und -gebäude
URL:https://www.hofheim.de/neuigkeiten-und-ausschreibungen/veranstaltungen/
END:VEVENT
END:VCALENDAR