BEGIN:VCALENDAR
VERSION:2.0
PRODID:-//Zentrum für altes und neues Wissen und Handeln e.V. - ECPv1.0//NONSGML v1.0//EN
CALSCALE:GREGORIAN
METHOD:PUBLISH
X-WR-CALNAME:Zentrum für altes und neues Wissen und Handeln e.V.
X-ORIGINAL-URL:https://zentrumhofheim.de
X-WR-CALDESC:Events for Zentrum für altes und neues Wissen und Handeln e.V.
BEGIN:VEVENT
DTSTART;VALUE=DATE-TIME:20260101T180000Z
DTEND;VALUE=DATE-TIME:20260101T210000Z
DTSTAMP:20260419T140908
UID:12816-1767290400-1767301200@https://zentrumhofheim.de
SUMMARY:Zentrum intern: Arbeitskreis Rauhnächte
DESCRIPTION:
LOCATION:
END:VEVENT
BEGIN:VEVENT
DTSTART;VALUE=DATE-TIME:20260105T190000Z
DTEND;VALUE=DATE-TIME:20260105T200000Z
DTSTAMP:20260419T140908
UID:12809-1767639600-1767643200@https://zentrumhofheim.de
SUMMARY:Zen-Meditation
DESCRIPTION:
LOCATION:
URL:https://zentrumhofheim.de/zen-meditation/
ATTACH;FMTTYPE=image/jpeg:https://zentrumhofheim.de/wp-content/uploads/2016/07/lutz-janke-martin-haindl.jpg
END:VEVENT
BEGIN:VEVENT
DTSTART;VALUE=DATE-TIME:20260112T190000Z
DTEND;VALUE=DATE-TIME:20260112T200000Z
DTSTAMP:20260419T140908
UID:12811-1768244400-1768248000@https://zentrumhofheim.de
SUMMARY:Zen-Meditation
DESCRIPTION:
LOCATION:
URL:https://zentrumhofheim.de/zen-meditation/
ATTACH;FMTTYPE=image/jpeg:https://zentrumhofheim.de/wp-content/uploads/2016/07/lutz-janke-martin-haindl.jpg
END:VEVENT
BEGIN:VEVENT
DTSTART;VALUE=DATE-TIME:20260118T163000Z
DTEND;VALUE=DATE-TIME:20260118T183000Z
DTSTAMP:20260419T140908
UID:12868-1768753800-1768761000@https://zentrumhofheim.de
SUMMARY:Kino: Mother’s Baby
DESCRIPTION:Eine Veranstaltung vom Familientreff Hofheim Mütterzentrum e. V.
LOCATION:Filmpalast Hofheim
URL:https://www.filmpalast-hofheim.de/de/programm/1515673
ATTACH;FMTTYPE=image/jpeg:https://zentrumhofheim.de/wp-content/uploads/2026/01/IMG_7963.jpg
END:VEVENT
BEGIN:VEVENT
DTSTART;VALUE=DATE-TIME:20260119T190000Z
DTEND;VALUE=DATE-TIME:20260119T200000Z
DTSTAMP:20260419T140908
UID:12812-1768849200-1768852800@https://zentrumhofheim.de
SUMMARY:Zen-Meditation
DESCRIPTION:
LOCATION:
URL:https://zentrumhofheim.de/zen-meditation/
ATTACH;FMTTYPE=image/jpeg:https://zentrumhofheim.de/wp-content/uploads/2016/07/lutz-janke-martin-haindl.jpg
END:VEVENT
BEGIN:VEVENT
DTSTART;VALUE=DATE-TIME:20260120T180000Z
DTEND;VALUE=DATE-TIME:20260120T193000Z
DTSTAMP:20260419T140908
UID:12937-1768932000-1768937400@https://zentrumhofheim.de
SUMMARY:Meditatives Tanzen
DESCRIPTION:
LOCATION:
URL:https://zentrumhofheim.de/meditatives-tanzen/
ATTACH;FMTTYPE=image/jpeg:https://zentrumhofheim.de/wp-content/uploads/2017/11/Gesche-Wasserstrass.jpg
END:VEVENT
BEGIN:VEVENT
DTSTART;VALUE=DATE-TIME:20260123T180000Z
DTEND;VALUE=DATE-TIME:20260123T203000Z
DTSTAMP:20260419T140908
UID:12732-1769191200-1769200200@https://zentrumhofheim.de
SUMMARY:Zentrum intern: Arbeitskreis
DESCRIPTION:
LOCATION:
END:VEVENT
BEGIN:VEVENT
DTSTART;VALUE=DATE-TIME:20260125T090000Z
DTEND;VALUE=DATE-TIME:20260125T110000Z
DTSTAMP:20260419T140908
UID:12749-1769331600-1769338800@https://zentrumhofheim.de
SUMMARY:Treffpunkt Scheunengarten
DESCRIPTION:
LOCATION:
URL:https://zentrumhofheim.de/treffpunkt-scheunen-garten/
ATTACH;FMTTYPE=image/png:https://zentrumhofheim.de/wp-content/uploads/2023/12/Bildschirmfoto-2023-12-01-um-08.51.35.png
END:VEVENT
BEGIN:VEVENT
DTSTART;VALUE=DATE-TIME:20260126T190000Z
DTEND;VALUE=DATE-TIME:20260126T203000Z
DTSTAMP:20260419T140908
UID:12822-1769454000-1769459400@https://zentrumhofheim.de
SUMMARY:Gong-Meditation
DESCRIPTION:
LOCATION:Scheune in der Bärengasse
URL:https://zentrumhofheim.de/gong-meditation/
ATTACH;FMTTYPE=image/jpeg:https://zentrumhofheim.de/wp-content/uploads/2025/01/Gong.jpg
END:VEVENT
END:VCALENDAR