BEGIN:VCALENDAR
VERSION:2.0
PRODID:-//Zentrum für altes und neues Wissen und Handeln e.V. - ECPv1.0//NONSGML v1.0//EN
CALSCALE:GREGORIAN
METHOD:PUBLISH
X-WR-CALNAME:Zentrum für altes und neues Wissen und Handeln e.V.
X-ORIGINAL-URL:https://zentrumhofheim.de
X-WR-CALDESC:Events for Zentrum für altes und neues Wissen und Handeln e.V.
BEGIN:VEVENT
DTSTART;VALUE=DATE-TIME:20260201T183000Z
DTEND;VALUE=DATE-TIME:20260201T210000Z
DTSTAMP:20260419T140628
UID:12719-1769970600-1769979600@https://zentrumhofheim.de
SUMMARY:Der Vollmond im Jahreskreis – Winter
DESCRIPTION:
LOCATION:
URL:https://zentrumhofheim.de/der-vollmond-im-jahreskreis/
ATTACH;FMTTYPE=image/jpeg:https://zentrumhofheim.de/wp-content/uploads/2015/12/Apfelbaum-Vollmond.jpg
END:VEVENT
BEGIN:VEVENT
DTSTART;VALUE=DATE-TIME:20260202T190000Z
DTEND;VALUE=DATE-TIME:20260202T200000Z
DTSTAMP:20260419T140628
UID:12813-1770058800-1770062400@https://zentrumhofheim.de
SUMMARY:Zen-Meditation
DESCRIPTION:
LOCATION:
URL:https://zentrumhofheim.de/zen-meditation/
ATTACH;FMTTYPE=image/jpeg:https://zentrumhofheim.de/wp-content/uploads/2016/07/lutz-janke-martin-haindl.jpg
END:VEVENT
BEGIN:VEVENT
DTSTART;VALUE=DATE-TIME:20260209T190000Z
DTEND;VALUE=DATE-TIME:20260209T200000Z
DTSTAMP:20260419T140628
UID:12837-1770663600-1770667200@https://zentrumhofheim.de
SUMMARY:Zen-Meditation
DESCRIPTION:
LOCATION:
URL:https://zentrumhofheim.de/zen-meditation/
ATTACH;FMTTYPE=image/jpeg:https://zentrumhofheim.de/wp-content/uploads/2016/07/lutz-janke-martin-haindl.jpg
END:VEVENT
BEGIN:VEVENT
DTSTART;VALUE=DATE-TIME:20260216T190000Z
DTEND;VALUE=DATE-TIME:20260216T200000Z
DTSTAMP:20260419T140628
UID:12838-1771268400-1771272000@https://zentrumhofheim.de
SUMMARY:Zen-Meditation
DESCRIPTION:
LOCATION:
URL:https://zentrumhofheim.de/zen-meditation/
ATTACH;FMTTYPE=image/jpeg:https://zentrumhofheim.de/wp-content/uploads/2016/07/lutz-janke-martin-haindl.jpg
END:VEVENT
BEGIN:VEVENT
DTSTART;VALUE=DATE-TIME:20260217T180000Z
DTEND;VALUE=DATE-TIME:20260217T193000Z
DTSTAMP:20260419T140628
UID:12938-1771351200-1771356600@https://zentrumhofheim.de
SUMMARY:Meditatives Tanzen
DESCRIPTION:
LOCATION:
URL:https://zentrumhofheim.de/meditatives-tanzen/
ATTACH;FMTTYPE=image/jpeg:https://zentrumhofheim.de/wp-content/uploads/2017/11/Gesche-Wasserstrass.jpg
END:VEVENT
BEGIN:VEVENT
DTSTART;VALUE=DATE-TIME:20260220T180000Z
DTEND;VALUE=DATE-TIME:20260220T200000Z
DTSTAMP:20260419T140628
UID:12885-1771610400-1771617600@https://zentrumhofheim.de
SUMMARY:Gesprächsabend: Was passiert mit mir, nachdem ich gestorben bin?
DESCRIPTION:
LOCATION:
URL:https://zentrumhofheim.de/was-passiert-mit-mir-nachdem-ich-gestorben-bin/
END:VEVENT
BEGIN:VEVENT
DTSTART;VALUE=DATE-TIME:20260222T090000Z
DTEND;VALUE=DATE-TIME:20260222T110000Z
DTSTAMP:20260419T140628
UID:12750-1771750800-1771758000@https://zentrumhofheim.de
SUMMARY:Treffpunkt Scheunengarten
DESCRIPTION:
LOCATION:
URL:https://zentrumhofheim.de/treffpunkt-scheunen-garten/
ATTACH;FMTTYPE=image/png:https://zentrumhofheim.de/wp-content/uploads/2023/12/Bildschirmfoto-2023-12-01-um-08.51.35.png
END:VEVENT
BEGIN:VEVENT
DTSTART;VALUE=DATE-TIME:20260223T190000Z
DTEND;VALUE=DATE-TIME:20260223T203000Z
DTSTAMP:20260419T140628
UID:12814-1771873200-1771878600@https://zentrumhofheim.de
SUMMARY:Gong-Meditation
DESCRIPTION:
LOCATION:Scheune in der Bärengasse
URL:https://zentrumhofheim.de/gong-meditation/
ATTACH;FMTTYPE=image/jpeg:https://zentrumhofheim.de/wp-content/uploads/2025/01/Gong.jpg
END:VEVENT
END:VCALENDAR