BEGIN:VCALENDAR
VERSION:2.0
PRODID:-//Zentrum für altes und neues Wissen und Handeln e.V. - ECPv1.0//NONSGML v1.0//EN
CALSCALE:GREGORIAN
METHOD:PUBLISH
X-WR-CALNAME:Zentrum für altes und neues Wissen und Handeln e.V.
X-ORIGINAL-URL:https://zentrumhofheim.de
X-WR-CALDESC:Events for Zentrum für altes und neues Wissen und Handeln e.V.
BEGIN:VEVENT
DTSTART;VALUE=DATE:20260403
DTEND;VALUE=DATE:20260403
DTSTAMP:20260419T123224
UID:12832-1775174400-1775174400@https://zentrumhofheim.de
SUMMARY:Ostern
DESCRIPTION:
LOCATION:
END:VEVENT
BEGIN:VEVENT
DTSTART;VALUE=DATE:20260404
DTEND;VALUE=DATE:20260404
DTSTAMP:20260419T123224
UID:12832-1775260800-1775260800@https://zentrumhofheim.de
SUMMARY:Ostern
DESCRIPTION:
LOCATION:
END:VEVENT
BEGIN:VEVENT
DTSTART;VALUE=DATE:20260405
DTEND;VALUE=DATE:20260405
DTSTAMP:20260419T123224
UID:12832-1775347200-1775347200@https://zentrumhofheim.de
SUMMARY:Ostern
DESCRIPTION:
LOCATION:
END:VEVENT
BEGIN:VEVENT
DTSTART;VALUE=DATE:20260406
DTEND;VALUE=DATE:20260406
DTSTAMP:20260419T123224
UID:12832-1775433600-1775433600@https://zentrumhofheim.de
SUMMARY:Ostern
DESCRIPTION:
LOCATION:
END:VEVENT
BEGIN:VEVENT
DTSTART;VALUE=DATE-TIME:20260413T180000Z
DTEND;VALUE=DATE-TIME:20260413T190000Z
DTSTAMP:20260419T123224
UID:12844-1776103200-1776106800@https://zentrumhofheim.de
SUMMARY:Zen-Meditation
DESCRIPTION:
LOCATION:
URL:https://zentrumhofheim.de/zen-meditation/
ATTACH;FMTTYPE=image/jpeg:https://zentrumhofheim.de/wp-content/uploads/2016/07/lutz-janke-martin-haindl.jpg
END:VEVENT
BEGIN:VEVENT
DTSTART;VALUE=DATE-TIME:20260415T170000Z
DTEND;VALUE=DATE-TIME:20260415T190000Z
DTSTAMP:20260419T123224
UID:13086-1776272400-1776279600@https://zentrumhofheim.de
SUMMARY:Mitgliederversammlung
DESCRIPTION:Mitgliederversammlung für die Jahre 2024 und 2025
LOCATION:Scheune in der Bärengasse 6a, 65719 Hofheim
END:VEVENT
BEGIN:VEVENT
DTSTART;VALUE=DATE-TIME:20260420T180000Z
DTEND;VALUE=DATE-TIME:20260420T190000Z
DTSTAMP:20260419T123224
UID:12845-1776708000-1776711600@https://zentrumhofheim.de
SUMMARY:Zen-Meditation
DESCRIPTION:
LOCATION:
URL:https://zentrumhofheim.de/zen-meditation/
ATTACH;FMTTYPE=image/jpeg:https://zentrumhofheim.de/wp-content/uploads/2016/07/lutz-janke-martin-haindl.jpg
END:VEVENT
BEGIN:VEVENT
DTSTART;VALUE=DATE-TIME:20260421T170000Z
DTEND;VALUE=DATE-TIME:20260421T183000Z
DTSTAMP:20260419T123224
UID:12940-1776790800-1776796200@https://zentrumhofheim.de
SUMMARY:Meditatives Tanzen
DESCRIPTION:
LOCATION:
URL:https://zentrumhofheim.de/meditatives-tanzen/
ATTACH;FMTTYPE=image/jpeg:https://zentrumhofheim.de/wp-content/uploads/2017/11/Gesche-Wasserstrass.jpg
END:VEVENT
BEGIN:VEVENT
DTSTART;VALUE=DATE-TIME:20260426T090000Z
DTEND;VALUE=DATE-TIME:20260426T110000Z
DTSTAMP:20260419T123224
UID:12752-1777194000-1777201200@https://zentrumhofheim.de
SUMMARY:Treffpunkt Scheunengarten
DESCRIPTION:
LOCATION:
URL:https://zentrumhofheim.de/treffpunkt-scheunen-garten/
ATTACH;FMTTYPE=image/png:https://zentrumhofheim.de/wp-content/uploads/2023/12/Bildschirmfoto-2023-12-01-um-08.51.35.png
END:VEVENT
BEGIN:VEVENT
DTSTART;VALUE=DATE-TIME:20260427T180000Z
DTEND;VALUE=DATE-TIME:20260427T193000Z
DTSTAMP:20260419T123224
UID:12824-1777312800-1777318200@https://zentrumhofheim.de
SUMMARY:Gong-Meditation
DESCRIPTION:
LOCATION:Scheune in der Bärengasse
URL:https://zentrumhofheim.de/gong-meditation/
ATTACH;FMTTYPE=image/jpeg:https://zentrumhofheim.de/wp-content/uploads/2025/01/Gong.jpg
END:VEVENT
END:VCALENDAR